BEGIN:VCALENDAR
VERSION:2.0
PRODID:-//Young Professionals - ECPv6.15.20//NONSGML v1.0//EN
CALSCALE:GREGORIAN
METHOD:PUBLISH
X-WR-CALNAME:Young Professionals
X-ORIGINAL-URL:https://yp.ieee.org
X-WR-CALDESC:Events for Young Professionals
REFRESH-INTERVAL;VALUE=DURATION:PT1H
X-Robots-Tag:noindex
X-PUBLISHED-TTL:PT1H
BEGIN:VTIMEZONE
TZID:America/New_York
BEGIN:DAYLIGHT
TZOFFSETFROM:-0500
TZOFFSETTO:-0400
TZNAME:EDT
DTSTART:20240310T070000
END:DAYLIGHT
BEGIN:STANDARD
TZOFFSETFROM:-0400
TZOFFSETTO:-0500
TZNAME:EST
DTSTART:20241103T060000
END:STANDARD
BEGIN:DAYLIGHT
TZOFFSETFROM:-0500
TZOFFSETTO:-0400
TZNAME:EDT
DTSTART:20250309T070000
END:DAYLIGHT
BEGIN:STANDARD
TZOFFSETFROM:-0400
TZOFFSETTO:-0500
TZNAME:EST
DTSTART:20251102T060000
END:STANDARD
BEGIN:DAYLIGHT
TZOFFSETFROM:-0500
TZOFFSETTO:-0400
TZNAME:EDT
DTSTART:20260308T070000
END:DAYLIGHT
BEGIN:STANDARD
TZOFFSETFROM:-0400
TZOFFSETTO:-0500
TZNAME:EST
DTSTART:20261101T060000
END:STANDARD
END:VTIMEZONE
BEGIN:VEVENT
DTSTART;TZID=America/New_York:20250822T170000
DTEND;TZID=America/New_York:20250824T115500
DTSTAMP:20260420T003954
CREATED:20250614T013433Z
LAST-MODIFIED:20250824T095034Z
UID:16854-1755882000-1756036500@yp.ieee.org
SUMMARY:2025 Young Professionals Summit
DESCRIPTION:The 2025 IEEE YP Summit brings together Young Professionals from across IEEE Regions 1 and 2 — and invited YP leaders from around the world — for an energizing weekend of skills-building\, networking\, and impact.\nAt the IEEE YP Summit\, you’ll:\n* Make an impact on Sustainable Artificial Intelligence\n* Leverage IEEE to advance your career\n* Learn leadership skills — become a great YP Chair\n* Explore New York City with Young Professionals from across Regions 1 & 2 and around the world\nThrough hands-on workshops\, interactive discussions\, and networking\, you’ll gain new tools\, new connections\, and new inspiration.\nLearn more: https://attend.ieee.org/ypsummit-2025\nAgenda:\nFriday\, August 22\n5:00 PM – Opening reception\, dinner\, and networking mixer\nSaturday\, August 23\n10:00 AM – Opening and workshops (leadership\, career skills\, collaborative AI activities)\n1:00 PM – Lunch\n2:00 PM – Continued workshops and discussions\n5:30 PM – Group dinner\n7:00 PM – Free time / explore NYC\nSunday\, August 24\n9:00 AM – (optional) Group tours of New York City\nRoom: 3rd Floor Van Gogh\, Bldg: Jay Conference Empire\, 8 W 38th St\, New York\, New York\, United States\, 10018
URL:https://yp.ieee.org/event/2025-young-professionals-summit/
LOCATION:Room: 3rd Floor Van Gogh\, Bldg: Jay Conference Empire\, 8 W 38th St\, New York\, New York\, United States\, 10018
END:VEVENT
END:VCALENDAR